BEGIN:VCALENDAR
VERSION:2.0
PRODID:-//_ gravel&#039;s end official site - ECPv4.6.25//NONSGML v1.0//EN
CALSCALE:GREGORIAN
METHOD:PUBLISH
X-WR-CALNAME:_ gravel&#039;s end official site
X-ORIGINAL-URL:http://www.gravelsend.net
X-WR-CALDESC:Events for _ gravel&#039;s end official site
BEGIN:VEVENT
DTSTART;TZID=Asia/Tokyo:20191215T133000
DTEND;TZID=Asia/Tokyo:20191215T220000
DTSTAMP:20260425T214019
CREATED:20191113T053527Z
LAST-MODIFIED:20191113T094823Z
UID:636-1576416600-1576447200@www.gravelsend.net
SUMMARY:ヤスメFES
DESCRIPTION:2019/12/15(sun) \nヤスメFES \n場所:新潟GOLDEN PIGS RED STAGE \n出演: \nものうい\nThe WallClockS\nGravity of Notes\nオルガ\na crayfish\nminiscoop\ngravel’s end\nNuit\nHARBEST \nOPEN13:30 START14:00\nADV. / DOOR ￥2\,000 / ￥2\,500 \n新潟へgravel’s end遠征します！\n新潟のpsycho blood of mineやものういで活躍されてるシラヌイヤスメさんによるフェスティバル！\n色々な点が繋がりこんな風に熱量が高い場に出させていただくのはとても嬉しい事です\n冬の新潟で最高の音楽のお祭りを \n  \n
URL:http://www.gravelsend.net/live/%e3%83%a4%e3%82%b9%e3%83%a1fes/
LOCATION:新潟GOLDEN PIGS RED STAGE\, 中央区東堀通6番町1051-1 G.Eビル 5F\, 新潟市\, 新潟県\, 951-8065
END:VEVENT
END:VCALENDAR