BEGIN:VCALENDAR
VERSION:2.0
PRODID:-//_ gravel&#039;s end official site - ECPv4.6.25//NONSGML v1.0//EN
CALSCALE:GREGORIAN
METHOD:PUBLISH
X-WR-CALNAME:_ gravel&#039;s end official site
X-ORIGINAL-URL:http://www.gravelsend.net
X-WR-CALDESC:Events for _ gravel&#039;s end official site
BEGIN:VEVENT
DTSTART;TZID=Asia/Tokyo:20260124T170000
DTEND;TZID=Asia/Tokyo:20260124T220000
DTSTAMP:20260423T091036
CREATED:20251230T113050Z
LAST-MODIFIED:20251230T113153Z
UID:18809-1769274000-1769292000@www.gravelsend.net
SUMMARY:新世界 其の九
DESCRIPTION:2026.1.24(sat)\n新世界 其の九\nat MERRY-GO-ROUND \nOPEN 17:15 / START 17:45\nTICKET ￥3\,000 (1DRINK別) / 1ドリンク 600円 \n出演者：\n17:45 strange world’s end\n18:35 CELTAR SIS HARBEST(長野)\n19:25 gravel’s end\n20:15 CODED(京都)\n21:05 gharr \n \n
URL:http://www.gravelsend.net/live/%e6%96%b0%e4%b8%96%e7%95%8c-%e5%85%b6%e3%81%ae%e4%b9%9d/
LOCATION:MERRY-GO-ROUND\, 東京都新宿区新宿1-31-3 ダイアパレス新宿1丁目B-107号\, 東京都\, 160-0022\, 日本
END:VEVENT
END:VCALENDAR