BEGIN:VCALENDAR
VERSION:2.0
PRODID:-//_ gravel&#039;s end official site - ECPv4.6.25//NONSGML v1.0//EN
CALSCALE:GREGORIAN
METHOD:PUBLISH
X-WR-CALNAME:_ gravel&#039;s end official site
X-ORIGINAL-URL:http://www.gravelsend.net
X-WR-CALDESC:Events for _ gravel&#039;s end official site
BEGIN:VEVENT
DTSTART;TZID=Asia/Tokyo:20200228T180000
DTEND;TZID=Asia/Tokyo:20200228T220000
DTSTAMP:20260425T201608
CREATED:20200210T095357Z
LAST-MODIFIED:20200218T085119Z
UID:1025-1582912800-1582927200@www.gravelsend.net
SUMMARY:FLIPPY FLOPPY
DESCRIPTION:2/28(金)\nFLIPPY FLOPPY \n場所:池袋手刀 \n出演:\nnannou\nTake E Lee\ngravel’s end\nSUSTINARS\n住宅団地 \n■open 18:00 / start 18:30\n■adv. ￥2\,000(+1d) / door ￥2\,300(+1d) \nタイムテーブル:\n18:50-19:20 [1]. SUSTINARS\n19:30-20:00 [2]. gravel’s end\n20:10-20:40 [3]. 住宅団地\n20:50-21:20 [4]. Take E Lee\n21:30-22:00 [5]. nannou \n  \n  \n2月のgravel’s endは池袋手刀にて出演させて頂きます\nストレートなロックのカタルシスを感じさせるバンドからシューゲイザー、耽美的な香りを感じさせるバンドまで。\nこんな出演の幅は手刀にしか出来ない、という様なラインナップです。 \n \n以下より各出演者の音が聞けます。\n好きな音を見つけてくださったら幸いです。 \n何卒よろしくお願い致します \nSUSTINARS \n \ngravel’s end \n \n住宅団地 \n \nTake E Lee \n \nnannou \n \n
URL:http://www.gravelsend.net/live/%e6%b1%a0%e8%a2%8b%e6%89%8b%e5%88%80/
LOCATION:池袋 音処・手刀\, 池袋２丁目４６−３ シーマ100 B1\, 豊島区\, 東京都\, 170-0014\, 日本
END:VEVENT
END:VCALENDAR