BEGIN:VCALENDAR
VERSION:2.0
PRODID:-//_ gravel&#039;s end official site - ECPv4.6.25//NONSGML v1.0//EN
CALSCALE:GREGORIAN
METHOD:PUBLISH
X-WR-CALNAME:_ gravel&#039;s end official site
X-ORIGINAL-URL:http://www.gravelsend.net
X-WR-CALDESC:Events for _ gravel&#039;s end official site
BEGIN:VEVENT
DTSTART;TZID=Asia/Tokyo:20231014T170000
DTEND;TZID=Asia/Tokyo:20231014T220000
DTSTAMP:20260425T142511
CREATED:20230923T114045Z
LAST-MODIFIED:20230923T114045Z
UID:11401-1697302800-1697320800@www.gravelsend.net
SUMMARY:10:15 SaturdayNight ‘THE CURE’ Japanese Fan Community Event
DESCRIPTION:2023/10/14 (Sat) at 桜台Pool \nOpen/Start 17:00\nAdv 2\,000jpy + 1d   Door 2\,500jpy + 1d \nDJ: Coakira \, 100heads\nBand (All songs ‘The Cure’ Cover) : gravel’s end \,  CINEOLA \nand Fan Talk Time \n予約はこちら \nThe Cure ファンによる The Cure トリビュートイベント！\nコロナ前に、それぞれ別に実施されていたThe Cure Night(DJイベント）と10:15 Saturday Night（Band Tribute) が、今回は協力して共同開催。 \n「来るべきニュー・アルバムと、それに伴うワールドツアーの中に、今度こそ日本での単独来日を期待したい」という事で、日本のファンたちもこれくらいThe Cureに焦がれている、ということを何とか形に示したい。」という想いから始まったイベントです。今の日本のファンだけでは、当然、単独来日に結びつく人数には、まだまだ達しません。それでも何とか旗を掲げなければいけないんじゃないか、という想いがあり、今回の共同開催にこぎつけました。ファンの皆さんと共に楽しめるような企画にするつもりですので、ふるってご参加いただければと思います。 \n \n
URL:http://www.gravelsend.net/live/1015-saturdaynight-the-cure-japanese-fan-community-event/
LOCATION:桜台POOL\, 東京都練馬区 桜台1-7-7\, 練馬区\, 東京都\, 1760002\, 日本
END:VEVENT
END:VCALENDAR