BEGIN:VCALENDAR
VERSION:2.0
PRODID:-//_ gravel&#039;s end official site - ECPv4.6.25//NONSGML v1.0//EN
CALSCALE:GREGORIAN
METHOD:PUBLISH
X-WR-CALNAME:_ gravel&#039;s end official site
X-ORIGINAL-URL:http://www.gravelsend.net
X-WR-CALDESC:Events for _ gravel&#039;s end official site
BEGIN:VEVENT
DTSTART;TZID=Asia/Tokyo:20200119T163000
DTEND;TZID=Asia/Tokyo:20200119T220000
DTSTAMP:20260425T214146
CREATED:20191121T105053Z
LAST-MODIFIED:20200107T082903Z
UID:651-1579451400-1579471200@www.gravelsend.net
SUMMARY:Canvas【1st ANNIVERSARY】
DESCRIPTION:Canvas \npresented by GOUON \n【1st ANNIVERSARY】 \nat 西荻窪FLAT \n1/19(日) \n出演:\ngravel’s end\nYURAGI LANDS\nHello1103\nminiscoop\nmaelstrom\nprivate concept \n  \nopen 16:30\nstart 17:00\ntickets:¥2000 \n  \n \nGOUONによるイベント、Canvasの一周年記念\ngravel’s endは2DAYSのイベントの2日目に出演となります\n今回も大学生、専門生は半額で高校生無料です\n当日と前売り料金が同一なので思い立った方もぜひいらして下さいませ\n2日通して凄い出演陣ですが是非両日共にいらっしゃって下さいませ \n
URL:http://www.gravelsend.net/live/canvas%e3%80%901st-anniversary%e3%80%91/
LOCATION:西荻窪FLAT\, 東京都杉並区西荻南3-17-2\, 東京都\, 1670053\, 日本
END:VEVENT
END:VCALENDAR