BEGIN:VCALENDAR
VERSION:2.0
PRODID:-//_ gravel&#039;s end official site - ECPv4.6.25//NONSGML v1.0//EN
CALSCALE:GREGORIAN
METHOD:PUBLISH
X-WR-CALNAME:_ gravel&#039;s end official site
X-ORIGINAL-URL:http://www.gravelsend.net
X-WR-CALDESC:Events for _ gravel&#039;s end official site
BEGIN:VEVENT
DTSTART;TZID=Asia/Tokyo:20231223T163000
DTEND;TZID=Asia/Tokyo:20231223T220000
DTSTAMP:20260425T142246
CREATED:20231015T183338Z
LAST-MODIFIED:20231015T183338Z
UID:11582-1703349000-1703368800@www.gravelsend.net
SUMMARY:privete concept×ALIVE presents 「　」#4 ~The year genre broke~
DESCRIPTION:12/23(土)\nprivete concept×ALIVE presents\n「　」#4\n~The year genre broke~ \nOPEN 16:30 START 17:00\nadv¥1500 door¥1800 \n■gravel’s end\n■YOSHIO with Redical Andes Connection\n■ペルーカ\n■abaoaqu\n■はかなき生活\n■private concept\n \n
URL:http://www.gravelsend.net/live/privete-conceptxalive-presents-%e3%80%8c%e3%80%80%e3%80%8d4-the-year-genre-broke/
LOCATION:ライブハウス柏 ALIVE\, 千葉県柏市あけぼの２丁目１−２９ オーキッドコート 2A\, 柏市\, 千葉県\, 277-0841\, 日本
END:VEVENT
END:VCALENDAR