BEGIN:VCALENDAR
VERSION:2.0
PRODID:-//_ gravel&#039;s end official site - ECPv4.6.25//NONSGML v1.0//EN
CALSCALE:GREGORIAN
METHOD:PUBLISH
X-WR-CALNAME:_ gravel&#039;s end official site
X-ORIGINAL-URL:http://www.gravelsend.net
X-WR-CALDESC:Events for _ gravel&#039;s end official site
BEGIN:VEVENT
DTSTART;TZID=Asia/Tokyo:20190720T173000
DTEND;TZID=Asia/Tokyo:20190720T220000
DTSTAMP:20260425T214539
CREATED:20190711T062159Z
LAST-MODIFIED:20190712T072328Z
UID:441-1563643800-1563660000@www.gravelsend.net
SUMMARY:RAY AFTER END season Ⅳ
DESCRIPTION:7/20(土) \nRAY AFTER END season Ⅳ \n場所:桜台pool \n開場 17:30\n開演 18:00\n入場料金 ￥2\,000(別途1ドリンク) \n出演:\nyumegiwatone\nstrange world’s end\nTia Rungray\ngravel’s end \n \n  \nタイムテーブル \n \n18:00-18:30 yumegiwatone \n \n18:50-19:20 gravel’s end \n\n19:40-20:10 strange world’s end \n\n20:30-21:00 Tia Rungray \n \n音楽がより身近に、そして自然な形で輪を作れる様に\nそんな思いで始まったイベントも既に4回目を迎える事が出来ました\nこれもひとえに皆様のおかげでございます。\nこのイベントの風景をより色々な方々で伝染して持ち寄り合って頂けたら、と思っております\nこちらの会場は中二階構造になっており、喫煙スペースは二階部分のみになっております\nライブフロアは禁煙の為分煙となっております \n \n
URL:http://www.gravelsend.net/live/ray-after-end-%e2%85%a3/
LOCATION:桜台POOL\, 東京都練馬区 桜台1-7-7\, 練馬区\, 東京都\, 1760002\, 日本
END:VEVENT
END:VCALENDAR